BEGIN:VCALENDAR
VERSION:2.0
CALSCALE:GREGORIAN
PRODID:-//Diputació de Barcelona//DibaCMS//EN
BEGIN:VEVENT
UID:9102
DTSTAMP:20260425T195752
DTSTART:20240817T080000
DTEND:20240817T080000
SUMMARY:Espai Zero. Activitats pre estiu
LOCATION:
METHOD:PUBLISH
X-WR-CALNAME:ajuntament@lesfranqueses.cat
X-WR-TIMEZONE:Europe/Madrid
DESCRIPTION:
URI:https://www.lesfranqueses.cat/actualitat/agenda/agenda-dactivitats/espai-zero-activitats-pre-estiu.html
CLASS:PUBLIC
END:VEVENT
END:VCALENDAR
