BEGIN:VCALENDAR
VERSION:2.0
CALSCALE:GREGORIAN
PRODID:-//Diputació de Barcelona//DibaCMS//EN
BEGIN:VEVENT
UID:9101
DTSTAMP:20260425T143455
DTSTART:20240803T190000
DTEND:20240804T190000
SUMMARY:Dia internacional de l'orgull LGBTI
LOCATION:
METHOD:PUBLISH
X-WR-CALNAME:ajuntament@lesfranqueses.cat
X-WR-TIMEZONE:Europe/Madrid
DESCRIPTION:
URI:https://www.lesfranqueses.cat/actualitat/agenda/agenda-dactivitats/dia-internacional-de-lorgull-lgbti.html
CLASS:PUBLIC
END:VEVENT
END:VCALENDAR
