BEGIN:VCALENDAR
VERSION:2.0
CALSCALE:GREGORIAN
PRODID:-//Diputació de Barcelona//DibaCMS//EN
BEGIN:VEVENT
UID:9100
DTSTAMP:20260426T004330
DTSTART:20240630T090000
DTEND:20240630T090000
SUMMARY:Granollers CUP
LOCATION:
METHOD:PUBLISH
X-WR-CALNAME:ajuntament@lesfranqueses.cat
X-WR-TIMEZONE:Europe/Madrid
DESCRIPTION:
URI:https://www.lesfranqueses.cat/actualitat/agenda/agenda-dactivitats/granollers-cup.html
CLASS:PUBLIC
END:VEVENT
END:VCALENDAR
