BEGIN:VCALENDAR
VERSION:2.0
CALSCALE:GREGORIAN
PRODID:-//Diputació de Barcelona//DibaCMS//EN
BEGIN:VEVENT
UID:19666
DTSTAMP:20260424T154729
DTSTART:20260424T180000
DTEND:20260424T180000
SUMMARY:Espais de lectura 2026: Lectures d'estiu
LOCATION:Maria Elena Maseras, 1 Les Franqueses 08520 les Franqueses del Vallès
METHOD:PUBLISH
X-WR-CALNAME:ajuntament@lesfranqueses.cat
X-WR-TIMEZONE:Europe/Madrid
DESCRIPTION:
URI:https://www.lesfranqueses.cat/actualitat/agenda/agenda-dactivitats/espais-de-lectura-2026-lectures-destiu.html
CLASS:PUBLIC
END:VEVENT
END:VCALENDAR
