BEGIN:VCALENDAR
VERSION:2.0
CALSCALE:GREGORIAN
PRODID:-//Diputació de Barcelona//DibaCMS//EN
BEGIN:VEVENT
UID:19659
DTSTAMP:20260421T142927
DTSTART:20260423T174500
DTEND:20260423T191500
SUMMARY:Música en viu i ball per Sant Jordi
LOCATION:Avinguda de Santa Eulàlia, 7 08520 Les Franqueses del Vallès (Corró d'Avall)
METHOD:PUBLISH
X-WR-CALNAME:ajuntament@lesfranqueses.cat
X-WR-TIMEZONE:Europe/Madrid
DESCRIPTION:
URI:https://www.lesfranqueses.cat/actualitat/agenda/agenda-dactivitats/musica-en-viu-i-ball-per-sant-jordi.html
CLASS:PUBLIC
END:VEVENT
END:VCALENDAR
