BEGIN:VCALENDAR
VERSION:2.0
CALSCALE:GREGORIAN
PRODID:-//Diputació de Barcelona//DibaCMS//EN
BEGIN:VEVENT
UID:19657
DTSTAMP:20260420T145746
DTSTART:20260422T180000
DTEND:20260422T193000
SUMMARY:Sessió informativa i participativa: Vine a definir el nou Pla de Barris de Bellavista
LOCATION:Casal d'Avis de Bellavista 
METHOD:PUBLISH
X-WR-CALNAME:ajuntament@lesfranqueses.cat
X-WR-TIMEZONE:Europe/Madrid
DESCRIPTION:
URI:https://www.lesfranqueses.cat/actualitat/agenda/agenda-dactivitats/sessio-informativa-i-participativa-vine-a-definir-el-nou-pla-de-barris-de-bellavista.html
CLASS:PUBLIC
END:VEVENT
END:VCALENDAR
