BEGIN:VCALENDAR
VERSION:2.0
CALSCALE:GREGORIAN
PRODID:-//Diputació de Barcelona//DibaCMS//EN
BEGIN:VEVENT
UID:19651
DTSTAMP:20260420T065108
DTSTART:20260514T173000
DTEND:20260514T173000
SUMMARY:Hora del conte nadons: "Sons de Colors"
LOCATION:Verge de Montserrat, 21 Les Franqueses del Vallès 08520 les Franqueses del Vallès
METHOD:PUBLISH
X-WR-CALNAME:ajuntament@lesfranqueses.cat
X-WR-TIMEZONE:Europe/Madrid
DESCRIPTION:
URI:https://www.lesfranqueses.cat/actualitat/agenda/agenda-dactivitats/hora-del-conte-nadons-sons-de-colors.html
CLASS:PUBLIC
END:VEVENT
END:VCALENDAR
