BEGIN:VCALENDAR
VERSION:2.0
CALSCALE:GREGORIAN
PRODID:-//Diputació de Barcelona//DibaCMS//EN
BEGIN:VEVENT
UID:19481
DTSTAMP:20260419T160328
DTSTART:20260303T173000
DTEND:20260303T193000
SUMMARY:Espai Zero. Preparem l'exposició del 8M
LOCATION:Carrer de Maria Elena Maseras, 1 08521 Les Franqueses del Vallès (Bellavista)
METHOD:PUBLISH
X-WR-CALNAME:ajuntament@lesfranqueses.cat
X-WR-TIMEZONE:Europe/Madrid
DESCRIPTION:
URI:https://www.lesfranqueses.cat/actualitat/agenda/agenda-dactivitats/espai-zero-preparem-lexposicio-del-8m.html
CLASS:PUBLIC
END:VEVENT
END:VCALENDAR
