BEGIN:VCALENDAR
VERSION:2.0
CALSCALE:GREGORIAN
PRODID:-//Diputació de Barcelona//DibaCMS//EN
BEGIN:VEVENT
UID:19465
DTSTAMP:20260419T160724
DTSTART:20260324T173000
DTEND:20260324T190000
SUMMARY:Itineraris educatius després de l’ESO i el paper clau de les famílies
LOCATION:Passeig del Pedraforca, 22 08520 Les Franqueses del Vallès (Corró d'Avall)
METHOD:PUBLISH
X-WR-CALNAME:ajuntament@lesfranqueses.cat
X-WR-TIMEZONE:Europe/Madrid
DESCRIPTION:
URI:https://www.lesfranqueses.cat/actualitat/agenda/agenda-dactivitats/itineraris-educatius-despres-de-leso-i-el-paper-clau-de-les-families.html
CLASS:PUBLIC
END:VEVENT
END:VCALENDAR
