BEGIN:VCALENDAR
VERSION:2.0
CALSCALE:GREGORIAN
PRODID:-//Diputació de Barcelona//DibaCMS//EN
BEGIN:VEVENT
UID:19441
DTSTAMP:20260421T103413
DTSTART:20260305T200000
DTEND:20260305T220000
SUMMARY:Trobem-nos i parlem-ne:  Cavall fort, passat present i futur 
LOCATION:Centre Cultural de Marata  
METHOD:PUBLISH
X-WR-CALNAME:ajuntament@lesfranqueses.cat
X-WR-TIMEZONE:Europe/Madrid
DESCRIPTION:
URI:https://www.lesfranqueses.cat/actualitat/agenda/agenda-dactivitats/trobem-nos-i-parlem-ne-cavall-fort-passat-present-i-futur-.html
CLASS:PUBLIC
END:VEVENT
END:VCALENDAR
