BEGIN:VCALENDAR
VERSION:2.0
CALSCALE:GREGORIAN
PRODID:-//Diputació de Barcelona//DibaCMS//EN
BEGIN:VEVENT
UID:18300
DTSTAMP:20260421T114104
DTSTART:20250506T173000
DTEND:20250506T193000
SUMMARY:Jornada de portes obertes de l'Escola Bressol Municipal Cavall Fort
LOCATION:Carrer de Miquel Martí i Pol, 6-8 08520 Les Franqueses del Vallès (Corró d'Avall)
METHOD:PUBLISH
X-WR-CALNAME:ajuntament@lesfranqueses.cat
X-WR-TIMEZONE:Europe/Madrid
DESCRIPTION:
URI:https://www.lesfranqueses.cat/actualitat/agenda/agenda-dactivitats/jornada-de-portes-obertes-de-lescola-bressol-municipal-cavall-fort.html
CLASS:PUBLIC
END:VEVENT
END:VCALENDAR
