BEGIN:VCALENDAR
VERSION:2.0
CALSCALE:GREGORIAN
PRODID:-//Diputació de Barcelona//DibaCMS//EN
BEGIN:VEVENT
UID:18258
DTSTAMP:20260423T153853
DTSTART:20250403T200000
DTEND:20250403T200000
SUMMARY:Trobem-nos i parlem-ne (29a edició): El nou Congrés de Cultura Catalana
LOCATION:Centre Cultural de Marata 
METHOD:PUBLISH
X-WR-CALNAME:ajuntament@lesfranqueses.cat
X-WR-TIMEZONE:Europe/Madrid
DESCRIPTION:
URI:https://www.lesfranqueses.cat/actualitat/agenda/agenda-dactivitats/trobem-nos-i-parlem-ne-29a-edicio-el-nou-congres-de-cultura-catalana.html
CLASS:PUBLIC
END:VEVENT
END:VCALENDAR
