BEGIN:VCALENDAR
VERSION:2.0
CALSCALE:GREGORIAN
PRODID:-//Diputació de Barcelona//DibaCMS//EN
BEGIN:VEVENT
UID:18023
DTSTAMP:20260426T050411
DTSTART:20250201T100000
DTEND:20250214T200000
SUMMARY:Exposició. Geologia en femení (Febrer Científic 2025) 
LOCATION:Biblioteca Municipal de Bellavista 
METHOD:PUBLISH
X-WR-CALNAME:ajuntament@lesfranqueses.cat
X-WR-TIMEZONE:Europe/Madrid
DESCRIPTION:
URI:https://www.lesfranqueses.cat/actualitat/agenda/agenda-dactivitats/exposicio-geologia-en-femeni-febrer-cientific-2025-.html
CLASS:PUBLIC
END:VEVENT
END:VCALENDAR
