BEGIN:VCALENDAR
VERSION:2.0
CALSCALE:GREGORIAN
PRODID:-//Diputació de Barcelona//DibaCMS//EN
BEGIN:VEVENT
UID:18013
DTSTAMP:20260426T050622
DTSTART:20250128T173000
DTEND:20250128T200000
SUMMARY:Xerrada taller: Convivència inclusiva i respectuosa. Construint entorns de tots i totes i per a totes les persones
LOCATION:Sala d'actes de l'Espai Can Prat 
METHOD:PUBLISH
X-WR-CALNAME:ajuntament@lesfranqueses.cat
X-WR-TIMEZONE:Europe/Madrid
DESCRIPTION:
URI:https://www.lesfranqueses.cat/actualitat/agenda/agenda-dactivitats/xerrada-taller-convivencia-inclusiva-i-respectuosa-construint-entorns-de-tots-i-totes-i-per-a-totes-les-persones.html
CLASS:PUBLIC
END:VEVENT
END:VCALENDAR
