BEGIN:VCALENDAR
VERSION:2.0
CALSCALE:GREGORIAN
PRODID:-//Diputació de Barcelona//DibaCMS//EN
BEGIN:VEVENT
UID:17994
DTSTAMP:20260426T055848
DTSTART:20250214T180000
DTEND:20250214T180000
SUMMARY:Conferència. Científiques extraordinàries que van canviar el món (Febrer Científic 2025)
LOCATION:Biblioteca Municipal de Corró d’Avall 
METHOD:PUBLISH
X-WR-CALNAME:ajuntament@lesfranqueses.cat
X-WR-TIMEZONE:Europe/Madrid
DESCRIPTION:
URI:https://www.lesfranqueses.cat/actualitat/agenda/agenda-dactivitats/conferencia-cientifiques-extraordinaries-que-van-canviar-el-mon-febrer-cientific-2025.html
CLASS:PUBLIC
END:VEVENT
END:VCALENDAR
