BEGIN:VCALENDAR
VERSION:2.0
CALSCALE:GREGORIAN
PRODID:-//Diputació de Barcelona//DibaCMS//EN
BEGIN:VEVENT
UID:17979
DTSTAMP:20260426T060200
DTSTART:20250127T173000
DTEND:20250127T173000
SUMMARY:Hora del conte nadons: Salvatges
LOCATION:Biblioteca Municipal de Bellavista 
METHOD:PUBLISH
X-WR-CALNAME:ajuntament@lesfranqueses.cat
X-WR-TIMEZONE:Europe/Madrid
DESCRIPTION:
URI:https://www.lesfranqueses.cat/actualitat/agenda/agenda-dactivitats/hora-del-conte-nadons-salvatges.html
CLASS:PUBLIC
END:VEVENT
END:VCALENDAR
