BEGIN:VCALENDAR
VERSION:2.0
CALSCALE:GREGORIAN
PRODID:-//Diputació de Barcelona//DibaCMS//EN
BEGIN:VEVENT
UID:17973
DTSTAMP:20260426T062030
DTSTART:20250118T190000
DTEND:20250118T200000
SUMMARY:Concert del Cor Arpegi d’Amics de la Unió: cants de la terra al cel
LOCATION:Església de Santa Maria 08520 Les Franqueses del Vallès
METHOD:PUBLISH
X-WR-CALNAME:ajuntament@lesfranqueses.cat
X-WR-TIMEZONE:Europe/Madrid
DESCRIPTION:
URI:https://www.lesfranqueses.cat/actualitat/agenda/agenda-dactivitats/concert-del-cor-arpegi-damics-de-la-unio-cants-de-la-terra-al-cel.html
CLASS:PUBLIC
END:VEVENT
END:VCALENDAR
