BEGIN:VCALENDAR
VERSION:2.0
CALSCALE:GREGORIAN
PRODID:-//Diputació de Barcelona//DibaCMS//EN
BEGIN:VEVENT
UID:17961
DTSTAMP:20260426T061018
DTSTART:20250113T203000
DTEND:20250113T203000
SUMMARY:Consell del Poble de Llerona
LOCATION:Antigues Escoles de Llerona
 
METHOD:PUBLISH
X-WR-CALNAME:ajuntament@lesfranqueses.cat
X-WR-TIMEZONE:Europe/Madrid
DESCRIPTION:
URI:https://www.lesfranqueses.cat/actualitat/agenda/agenda-dactivitats/17961-consell-del-poble-de-llerona.html
CLASS:PUBLIC
END:VEVENT
END:VCALENDAR
