BEGIN:VCALENDAR
VERSION:2.0
CALSCALE:GREGORIAN
PRODID:-//Diputació de Barcelona//DibaCMS//EN
BEGIN:VEVENT
UID:17958
DTSTAMP:20260425T211109
DTSTART:20241213T000000
DTEND:20250215T000000
SUMMARY:Exposició "Moments dolços"
LOCATION:Carrer de Maria Elena Maseras, 1 08521 Les Franqueses del Vallès (Bellavista)
METHOD:PUBLISH
X-WR-CALNAME:ajuntament@lesfranqueses.cat
X-WR-TIMEZONE:Europe/Madrid
DESCRIPTION:
URI:https://www.lesfranqueses.cat/actualitat/agenda/agenda-dactivitats/exposicio-moments-dolcos.html
CLASS:PUBLIC
END:VEVENT
END:VCALENDAR
