BEGIN:VCALENDAR
VERSION:2.0
CALSCALE:GREGORIAN
PRODID:-//Diputació de Barcelona//DibaCMS//EN
BEGIN:VEVENT
UID:17950
DTSTAMP:20260426T060241
DTSTART:20250111T180000
DTEND:20250111T180000
SUMMARY:Teatre Infantil i Familiar "La crisi de la imaginació" amb Rauxa Cia.
LOCATION:Centre Cultural de Bellavista. Carrer de Maria Elena Maseras, 1 08520 Les Franqueses del Vallès (Bellavista)
METHOD:PUBLISH
X-WR-CALNAME:ajuntament@lesfranqueses.cat
X-WR-TIMEZONE:Europe/Madrid
DESCRIPTION:
URI:https://www.lesfranqueses.cat/actualitat/agenda/agenda-dactivitats/teatre-infantil-i-familiar-la-crisi-de-la-imaginacio-amb-rauxa-cia.html
CLASS:PUBLIC
END:VEVENT
END:VCALENDAR
