BEGIN:VCALENDAR
VERSION:2.0
CALSCALE:GREGORIAN
PRODID:-//Diputació de Barcelona//DibaCMS//EN
BEGIN:VEVENT
UID:17949
DTSTAMP:20260426T035357
DTSTART:20250111T100000
DTEND:20250111T130000
SUMMARY:Recull les teves bosses de la campanya "Quan vagis a comprar, agafa'm"
LOCATION:Mercat de Corró d'Avall 
METHOD:PUBLISH
X-WR-CALNAME:ajuntament@lesfranqueses.cat
X-WR-TIMEZONE:Europe/Madrid
DESCRIPTION:
URI:https://www.lesfranqueses.cat/actualitat/agenda/agenda-dactivitats/recull-les-teves-bosses-de-la-campanya-quan-vagis-a-comprar-agafam.html
CLASS:PUBLIC
END:VEVENT
END:VCALENDAR
