BEGIN:VCALENDAR
VERSION:2.0
CALSCALE:GREGORIAN
PRODID:-//Diputació de Barcelona//DibaCMS//EN
BEGIN:VEVENT
UID:17948
DTSTAMP:20260426T050642
DTSTART:20250111T100000
DTEND:20250111T170000
SUMMARY:3a edició de l'ENAMURART. Graffiti Jam
LOCATION:Carrer de la Serra cantonada amb carrer Colom 
METHOD:PUBLISH
X-WR-CALNAME:ajuntament@lesfranqueses.cat
X-WR-TIMEZONE:Europe/Madrid
DESCRIPTION:
URI:https://www.lesfranqueses.cat/actualitat/agenda/agenda-dactivitats/3a-edicio-de-lenamurart-murs-vius-histories-en-colors.html
CLASS:PUBLIC
END:VEVENT
END:VCALENDAR
