BEGIN:VCALENDAR
VERSION:2.0
CALSCALE:GREGORIAN
PRODID:-//Diputació de Barcelona//DibaCMS//EN
BEGIN:VEVENT
UID:17945
DTSTAMP:20260426T060740
DTSTART:20250109T173000
DTEND:20250109T193000
SUMMARY:Espai Zero. Decoració de l'espai amb perspectiva de gènere
LOCATION:Carrer de Maria Elena Maseras, 1 08521 Les Franqueses del Vallès (Bellavista)
METHOD:PUBLISH
X-WR-CALNAME:ajuntament@lesfranqueses.cat
X-WR-TIMEZONE:Europe/Madrid
DESCRIPTION:
URI:https://www.lesfranqueses.cat/actualitat/agenda/agenda-dactivitats/espai-zero-decoracio-de-lespai-amb-perspectiva-de-genere.html
CLASS:PUBLIC
END:VEVENT
END:VCALENDAR
