BEGIN:VCALENDAR
VERSION:2.0
CALSCALE:GREGORIAN
PRODID:-//Diputació de Barcelona//DibaCMS//EN
BEGIN:VEVENT
UID:17943
DTSTAMP:20260426T061435
DTSTART:20250107T173000
DTEND:20250107T193000
SUMMARY:Espai Zero. Organitzem el curs
LOCATION:Carrer de Maria Elena Maseras, 1 08521 Les Franqueses del Vallès (Bellavista)
METHOD:PUBLISH
X-WR-CALNAME:ajuntament@lesfranqueses.cat
X-WR-TIMEZONE:Europe/Madrid
DESCRIPTION:
URI:https://www.lesfranqueses.cat/actualitat/agenda/agenda-dactivitats/espai-zero-organitzem-el-curs.html
CLASS:PUBLIC
END:VEVENT
END:VCALENDAR
