BEGIN:VCALENDAR
VERSION:2.0
CALSCALE:GREGORIAN
PRODID:-//Diputació de Barcelona//DibaCMS//EN
BEGIN:VEVENT
UID:17902
DTSTAMP:20260426T005350
DTSTART:20250105T183000
DTEND:20250105T183000
SUMMARY:Visita de Ses Majestats els Reis d’Orient a Llerona
LOCATION:
METHOD:PUBLISH
X-WR-CALNAME:ajuntament@lesfranqueses.cat
X-WR-TIMEZONE:Europe/Madrid
DESCRIPTION:
URI:https://www.lesfranqueses.cat/actualitat/agenda/agenda-dactivitats/visita-de-ses-majestats-els-reis-dorient-a-llerona.html
CLASS:PUBLIC
END:VEVENT
END:VCALENDAR
