BEGIN:VCALENDAR
VERSION:2.0
CALSCALE:GREGORIAN
PRODID:-//Diputació de Barcelona//DibaCMS//EN
BEGIN:VEVENT
UID:17901
DTSTAMP:20260426T011038
DTSTART:20250105T170000
DTEND:20250105T193000
SUMMARY:Visita de Ses Majestats els Reis d’Orient a Bellavista
LOCATION:
METHOD:PUBLISH
X-WR-CALNAME:ajuntament@lesfranqueses.cat
X-WR-TIMEZONE:Europe/Madrid
DESCRIPTION:
URI:https://www.lesfranqueses.cat/actualitat/agenda/agenda-dactivitats/visita-de-ses-majestats-els-reis-dorient-a-bellavista.html
CLASS:PUBLIC
END:VEVENT
END:VCALENDAR
