BEGIN:VCALENDAR
VERSION:2.0
CALSCALE:GREGORIAN
PRODID:-//Diputació de Barcelona//DibaCMS//EN
BEGIN:VEVENT
UID:17900
DTSTAMP:20260425T235858
DTSTART:20250105T163000
DTEND:20250105T190000
SUMMARY:Visita de Ses Majestats els Reis d’Orient a Corró d’Avall
LOCATION:
METHOD:PUBLISH
X-WR-CALNAME:ajuntament@lesfranqueses.cat
X-WR-TIMEZONE:Europe/Madrid
DESCRIPTION:
URI:https://www.lesfranqueses.cat/actualitat/agenda/agenda-dactivitats/visita-de-ses-majestats-els-reis-dorient-a-corro-davall.html
CLASS:PUBLIC
END:VEVENT
END:VCALENDAR
