BEGIN:VCALENDAR
VERSION:2.0
CALSCALE:GREGORIAN
PRODID:-//Diputació de Barcelona//DibaCMS//EN
BEGIN:VEVENT
UID:17897
DTSTAMP:20260425T233931
DTSTART:20250104T170000
DTEND:20250104T200000
SUMMARY:Entrega de cartes al Patge Ganxet i la  Patgessa Mongeta,  taller de fanalets,  animació infantil  i xocolatada
LOCATION:Plaça de l’Espolsada. En cas de pluja, l’entrega de cartes es farà al Casal Cultural de Corró d’Avall i la resta d’activitats sota la pèrgola de l’Espolsada.  
METHOD:PUBLISH
X-WR-CALNAME:ajuntament@lesfranqueses.cat
X-WR-TIMEZONE:Europe/Madrid
DESCRIPTION:
URI:https://www.lesfranqueses.cat/actualitat/agenda/agenda-dactivitats/entrega-de-cartes-al-patge-ganxet-i-la-patgessa-mongeta-taller-de-fanalets-animacio-infantil-i-xocolatada.html
CLASS:PUBLIC
END:VEVENT
END:VCALENDAR
