BEGIN:VCALENDAR
VERSION:2.0
CALSCALE:GREGORIAN
PRODID:-//Diputació de Barcelona//DibaCMS//EN
BEGIN:VEVENT
UID:17895
DTSTAMP:20260426T033008
DTSTART:20250102T163000
DTEND:20250102T203000
SUMMARY:L’Espai dels Somnis
LOCATION:Espai Can Prat 
METHOD:PUBLISH
X-WR-CALNAME:ajuntament@lesfranqueses.cat
X-WR-TIMEZONE:Europe/Madrid
DESCRIPTION:
URI:https://www.lesfranqueses.cat/actualitat/agenda/agenda-dactivitats/lespai-dels-somnis.html
CLASS:PUBLIC
END:VEVENT
END:VCALENDAR
