BEGIN:VCALENDAR
VERSION:2.0
CALSCALE:GREGORIAN
PRODID:-//Diputació de Barcelona//DibaCMS//EN
BEGIN:VEVENT
UID:17890
DTSTAMP:20260426T034320
DTSTART:20241228T193000
DTEND:20241228T193000
SUMMARY:Teatre. Pasttorets. Que comenci la Màgia
LOCATION:Centre Cultural de Bellavista. Carrer de Maria Elena Maseras, 1 08520 Les Franqueses del Vallès (Bellavista)
METHOD:PUBLISH
X-WR-CALNAME:ajuntament@lesfranqueses.cat
X-WR-TIMEZONE:Europe/Madrid
DESCRIPTION:
URI:https://www.lesfranqueses.cat/actualitat/agenda/agenda-dactivitats/17890-teatre-pasttorets-que-comenci-la-magia.html
CLASS:PUBLIC
END:VEVENT
END:VCALENDAR
