BEGIN:VCALENDAR
VERSION:2.0
CALSCALE:GREGORIAN
PRODID:-//Diputació de Barcelona//DibaCMS//EN
BEGIN:VEVENT
UID:17889
DTSTAMP:20260426T060352
DTSTART:20241229T110000
DTEND:20241229T110000
SUMMARY:Concert de Marata
LOCATION:Carrer de la Rectoria, s/n 08520 Les Franqueses del Vallès
METHOD:PUBLISH
X-WR-CALNAME:ajuntament@lesfranqueses.cat
X-WR-TIMEZONE:Europe/Madrid
DESCRIPTION:
URI:https://www.lesfranqueses.cat/actualitat/agenda/agenda-dactivitats/concert-de-marata.html
CLASS:PUBLIC
END:VEVENT
END:VCALENDAR
