BEGIN:VCALENDAR
VERSION:2.0
CALSCALE:GREGORIAN
PRODID:-//Diputació de Barcelona//DibaCMS//EN
BEGIN:VEVENT
UID:17887
DTSTAMP:20260426T044836
DTSTART:20241226T190000
DTEND:20241226T190000
SUMMARY:Representació de Els Pastorets de Marata
LOCATION:Centre Cultural de Marata 
METHOD:PUBLISH
X-WR-CALNAME:ajuntament@lesfranqueses.cat
X-WR-TIMEZONE:Europe/Madrid
DESCRIPTION:
URI:https://www.lesfranqueses.cat/actualitat/agenda/agenda-dactivitats/representacio-de-els-pastorets-de-marata.html
CLASS:PUBLIC
END:VEVENT
END:VCALENDAR
