BEGIN:VCALENDAR
VERSION:2.0
CALSCALE:GREGORIAN
PRODID:-//Diputació de Barcelona//DibaCMS//EN
BEGIN:VEVENT
UID:17886
DTSTAMP:20260425T235816
DTSTART:20241222T193000
DTEND:20241222T193000
SUMMARY:Teatre. Pasttorets. Que comenci la Màgia
LOCATION:Centre Cultural de Bellavista. Carrer de Maria Elena Maseras, 1 08520 Les Franqueses del Vallès (Bellavista)
METHOD:PUBLISH
X-WR-CALNAME:ajuntament@lesfranqueses.cat
X-WR-TIMEZONE:Europe/Madrid
DESCRIPTION:
URI:https://www.lesfranqueses.cat/actualitat/agenda/agenda-dactivitats/17886-teatre-pasttorets-que-comenci-la-magia.html
CLASS:PUBLIC
END:VEVENT
END:VCALENDAR
