BEGIN:VCALENDAR
VERSION:2.0
CALSCALE:GREGORIAN
PRODID:-//Diputació de Barcelona//DibaCMS//EN
BEGIN:VEVENT
UID:17881
DTSTAMP:20260425T233956
DTSTART:20241222T110000
DTEND:20241222T140000
SUMMARY:Circuit ferroviari
LOCATION:Plaça de l’Espolsada 
METHOD:PUBLISH
X-WR-CALNAME:ajuntament@lesfranqueses.cat
X-WR-TIMEZONE:Europe/Madrid
DESCRIPTION:
URI:https://www.lesfranqueses.cat/actualitat/agenda/agenda-dactivitats/circuit-ferroviari.html
CLASS:PUBLIC
END:VEVENT
END:VCALENDAR
