BEGIN:VCALENDAR
VERSION:2.0
CALSCALE:GREGORIAN
PRODID:-//Diputació de Barcelona//DibaCMS//EN
BEGIN:VEVENT
UID:17880
DTSTAMP:20260425T234719
DTSTART:20241222T110000
DTEND:20241222T130000
SUMMARY:Taller de manualitats de decoració de Nadal
LOCATION:Plaça de l’Espolsada 
METHOD:PUBLISH
X-WR-CALNAME:ajuntament@lesfranqueses.cat
X-WR-TIMEZONE:Europe/Madrid
DESCRIPTION:
URI:https://www.lesfranqueses.cat/actualitat/agenda/agenda-dactivitats/taller-de-manualitats-de-decoracio-de-nadal.html
CLASS:PUBLIC
END:VEVENT
END:VCALENDAR
