BEGIN:VCALENDAR
VERSION:2.0
CALSCALE:GREGORIAN
PRODID:-//Diputació de Barcelona//DibaCMS//EN
BEGIN:VEVENT
UID:17875
DTSTAMP:20260426T010301
DTSTART:20241222T100000
DTEND:20241222T140000
SUMMARY:Fem un Tió 
LOCATION:Plaça de l’Espolsada 
METHOD:PUBLISH
X-WR-CALNAME:ajuntament@lesfranqueses.cat
X-WR-TIMEZONE:Europe/Madrid
DESCRIPTION:
URI:https://www.lesfranqueses.cat/actualitat/agenda/agenda-dactivitats/fem-un-tio-.html
CLASS:PUBLIC
END:VEVENT
END:VCALENDAR
