BEGIN:VCALENDAR
VERSION:2.0
CALSCALE:GREGORIAN
PRODID:-//Diputació de Barcelona//DibaCMS//EN
BEGIN:VEVENT
UID:17874
DTSTAMP:20260425T222811
DTSTART:20241222T100000
DTEND:20241222T140000
SUMMARY:Inflables, llits elàstics i bola de neu gegant
LOCATION:Plaça de l’Espolsada 
METHOD:PUBLISH
X-WR-CALNAME:ajuntament@lesfranqueses.cat
X-WR-TIMEZONE:Europe/Madrid
DESCRIPTION:
URI:https://www.lesfranqueses.cat/actualitat/agenda/agenda-dactivitats/inflables-llits-elastics-i-bola-de-neu-gegant.html
CLASS:PUBLIC
END:VEVENT
END:VCALENDAR
