BEGIN:VCALENDAR
VERSION:2.0
CALSCALE:GREGORIAN
PRODID:-//Diputació de Barcelona//DibaCMS//EN
BEGIN:VEVENT
UID:17873
DTSTAMP:20260426T021823
DTSTART:20241222T100000
DTEND:20241222T100000
SUMMARY:Taller d’escacs
LOCATION:Plaça de l’Espolsada 
METHOD:PUBLISH
X-WR-CALNAME:ajuntament@lesfranqueses.cat
X-WR-TIMEZONE:Europe/Madrid
DESCRIPTION:
URI:https://www.lesfranqueses.cat/actualitat/agenda/agenda-dactivitats/taller-descacs.html
CLASS:PUBLIC
END:VEVENT
END:VCALENDAR
