BEGIN:VCALENDAR
VERSION:2.0
CALSCALE:GREGORIAN
PRODID:-//Diputació de Barcelona//DibaCMS//EN
BEGIN:VEVENT
UID:17867
DTSTAMP:20260425T225027
DTSTART:20241218T173000
DTEND:20241218T173000
SUMMARY:Taller de Nadal. Diorames d’hivern. Petites obres d’Art tridimensionals
LOCATION:Biblioteca Municipal de Corró d’Avall 
METHOD:PUBLISH
X-WR-CALNAME:ajuntament@lesfranqueses.cat
X-WR-TIMEZONE:Europe/Madrid
DESCRIPTION:
URI:https://www.lesfranqueses.cat/actualitat/agenda/agenda-dactivitats/taller-de-nadal-diorames-dhivern-petites-obres-dart-tridimensionals.html
CLASS:PUBLIC
END:VEVENT
END:VCALENDAR
