BEGIN:VCALENDAR
VERSION:2.0
CALSCALE:GREGORIAN
PRODID:-//Diputació de Barcelona//DibaCMS//EN
BEGIN:VEVENT
UID:17865
DTSTAMP:20260426T050723
DTSTART:20250109T180000
DTEND:20250109T180000
SUMMARY:Espais de lectura. La filla del mar
LOCATION:Biblioteca Municipal de Bellavista 
METHOD:PUBLISH
X-WR-CALNAME:ajuntament@lesfranqueses.cat
X-WR-TIMEZONE:Europe/Madrid
DESCRIPTION:
URI:https://www.lesfranqueses.cat/actualitat/agenda/agenda-dactivitats/espais-de-lectura-la-filla-del-mar.html
CLASS:PUBLIC
END:VEVENT
END:VCALENDAR
