BEGIN:VCALENDAR
VERSION:2.0
CALSCALE:GREGORIAN
PRODID:-//Diputació de Barcelona//DibaCMS//EN
BEGIN:VEVENT
UID:17864
DTSTAMP:20260426T004539
DTSTART:20250103T170000
DTEND:20250103T210000
SUMMARY:Rebuda patges a Corró d’Amunt
LOCATION:Carretera de Cànoves, s/n 08520 Les Franqueses del Vallès (Corró d'Amunt)
METHOD:PUBLISH
X-WR-CALNAME:ajuntament@lesfranqueses.cat
X-WR-TIMEZONE:Europe/Madrid
DESCRIPTION:
URI:https://www.lesfranqueses.cat/actualitat/agenda/agenda-dactivitats/rebuda-patges-a-corro-damunt.html
CLASS:PUBLIC
END:VEVENT
END:VCALENDAR
