BEGIN:VCALENDAR
VERSION:2.0
CALSCALE:GREGORIAN
PRODID:-//Diputació de Barcelona//DibaCMS//EN
BEGIN:VEVENT
UID:17863
DTSTAMP:20260425T202248
DTSTART:20241227T090000
DTEND:20241227T200000
SUMMARY:Torneig de Nadal de Bàsquet Club Bàsquet Granollers
LOCATION:Pavelló Poliesportiu Municipal de Corró d’Avall 
METHOD:PUBLISH
X-WR-CALNAME:ajuntament@lesfranqueses.cat
X-WR-TIMEZONE:Europe/Madrid
DESCRIPTION:
URI:https://www.lesfranqueses.cat/actualitat/agenda/agenda-dactivitats/torneig-de-nadal-de-basquet-club-basquet-granollers.html
CLASS:PUBLIC
END:VEVENT
END:VCALENDAR
