BEGIN:VCALENDAR
VERSION:2.0
CALSCALE:GREGORIAN
PRODID:-//Diputació de Barcelona//DibaCMS//EN
BEGIN:VEVENT
UID:17862
DTSTAMP:20260425T233914
DTSTART:20241222T170000
DTEND:20241222T170000
SUMMARY:Exhibició de Nadal del Club Patinatge Artístic LF
LOCATION:Pavelló Poliesportiu Municipal de Corró d’Avall 
METHOD:PUBLISH
X-WR-CALNAME:ajuntament@lesfranqueses.cat
X-WR-TIMEZONE:Europe/Madrid
DESCRIPTION:
URI:https://www.lesfranqueses.cat/actualitat/agenda/agenda-dactivitats/exhibicio-de-nadal-del-club-patinatge-artistic-lf.html
CLASS:PUBLIC
END:VEVENT
END:VCALENDAR
