BEGIN:VCALENDAR
VERSION:2.0
CALSCALE:GREGORIAN
PRODID:-//Diputació de Barcelona//DibaCMS//EN
BEGIN:VEVENT
UID:17857
DTSTAMP:20260426T021702
DTSTART:20241219T173000
DTEND:20241219T193000
SUMMARY:Espai Zero. Taller de cuina
LOCATION:Carrer de Maria Elena Maseras, 1 08521 Les Franqueses del Vallès (Bellavista)
METHOD:PUBLISH
X-WR-CALNAME:ajuntament@lesfranqueses.cat
X-WR-TIMEZONE:Europe/Madrid
DESCRIPTION:
URI:https://www.lesfranqueses.cat/actualitat/agenda/agenda-dactivitats/17857-espai-zero-taller-de-cuina.html
CLASS:PUBLIC
END:VEVENT
END:VCALENDAR
