BEGIN:VCALENDAR
VERSION:2.0
CALSCALE:GREGORIAN
PRODID:-//Diputació de Barcelona//DibaCMS//EN
BEGIN:VEVENT
UID:17855
DTSTAMP:20260425T211010
DTSTART:20241214T100000
DTEND:20241214T123000
SUMMARY:Dones i esport: Tallers esportius: Woman training, empodera't!
LOCATION:Espai Can Prat 
METHOD:PUBLISH
X-WR-CALNAME:ajuntament@lesfranqueses.cat
X-WR-TIMEZONE:Europe/Madrid
DESCRIPTION:
URI:https://www.lesfranqueses.cat/actualitat/agenda/agenda-dactivitats/dones-i-esport-tallers-esportius-woman-training-empoderat.html
CLASS:PUBLIC
END:VEVENT
END:VCALENDAR
