BEGIN:VCALENDAR
VERSION:2.0
CALSCALE:GREGORIAN
PRODID:-//Diputació de Barcelona//DibaCMS//EN
BEGIN:VEVENT
UID:17854
DTSTAMP:20260426T060827
DTSTART:20241210T093000
DTEND:20241210T130000
SUMMARY:Cafè taller: Generem aliances - Xarxa de dones emprenedores i empresàries
LOCATION:Camí Antic de Vic, 10 08520 Les Franqueses del Vallès
METHOD:PUBLISH
X-WR-CALNAME:ajuntament@lesfranqueses.cat
X-WR-TIMEZONE:Europe/Madrid
DESCRIPTION:
URI:https://www.lesfranqueses.cat/actualitat/agenda/agenda-dactivitats/cafe-taller-generem-aliances-xarxa-de-dones-emprenedores-i-empresaries.html
CLASS:PUBLIC
END:VEVENT
END:VCALENDAR
