BEGIN:VCALENDAR
VERSION:2.0
CALSCALE:GREGORIAN
PRODID:-//Diputació de Barcelona//DibaCMS//EN
BEGIN:VEVENT
UID:17850
DTSTAMP:20260425T233646
DTSTART:20241217T173000
DTEND:20241217T173000
SUMMARY:Taller de Nadal: Fanalets de Reis
LOCATION:Biblioteca Municipal de Bellavista 
METHOD:PUBLISH
X-WR-CALNAME:ajuntament@lesfranqueses.cat
X-WR-TIMEZONE:Europe/Madrid
DESCRIPTION:
URI:https://www.lesfranqueses.cat/actualitat/agenda/agenda-dactivitats/taller-de-nadal-fanalets-de-reis.html
CLASS:PUBLIC
END:VEVENT
END:VCALENDAR
