BEGIN:VCALENDAR
VERSION:2.0
CALSCALE:GREGORIAN
PRODID:-//Diputació de Barcelona//DibaCMS//EN
BEGIN:VEVENT
UID:17847
DTSTAMP:20260425T233427
DTSTART:20241215T130000
DTEND:20241215T133000
SUMMARY:Exhibició de dansa
LOCATION:Fira de Nadal. Plaça de l’Espolsada- En cas de pluja, l’activitat es farà al Casal Cultural de Corró d’Avall 
METHOD:PUBLISH
X-WR-CALNAME:ajuntament@lesfranqueses.cat
X-WR-TIMEZONE:Europe/Madrid
DESCRIPTION:
URI:https://www.lesfranqueses.cat/actualitat/agenda/agenda-dactivitats/exhibicio-de-dansa.html
CLASS:PUBLIC
END:VEVENT
END:VCALENDAR
