BEGIN:VCALENDAR
VERSION:2.0
CALSCALE:GREGORIAN
PRODID:-//Diputació de Barcelona//DibaCMS//EN
BEGIN:VEVENT
UID:17840
DTSTAMP:20260426T050143
DTSTART:20241215T170000
DTEND:20241215T200000
SUMMARY:26a edició  del Pessebre Vivent
LOCATION:Al voltant de l’Església de Santa Eulàlia de Corró d’Avall (Av. Santa Eulàlia, 16) 
METHOD:PUBLISH
X-WR-CALNAME:ajuntament@lesfranqueses.cat
X-WR-TIMEZONE:Europe/Madrid
DESCRIPTION:
URI:https://www.lesfranqueses.cat/actualitat/agenda/agenda-dactivitats/17840-26a-edicio-del-pessebre-vivent.html
CLASS:PUBLIC
END:VEVENT
END:VCALENDAR
