BEGIN:VCALENDAR
VERSION:2.0
CALSCALE:GREGORIAN
PRODID:-//Diputació de Barcelona//DibaCMS//EN
BEGIN:VEVENT
UID:17826
DTSTAMP:20260425T212756
DTSTART:20241214T110000
DTEND:20241214T113000
SUMMARY:Exhibició de Twirling
LOCATION:Fira de Nadal. Plaça de l’Espolsada 
METHOD:PUBLISH
X-WR-CALNAME:ajuntament@lesfranqueses.cat
X-WR-TIMEZONE:Europe/Madrid
DESCRIPTION:
URI:https://www.lesfranqueses.cat/actualitat/agenda/agenda-dactivitats/exhibicio-de-twirling.html
CLASS:PUBLIC
END:VEVENT
END:VCALENDAR
